BEGIN:VCALENDAR
VERSION:2.0
PRODID:-//Mountains Community Hospital - ECPv6.15.20//NONSGML v1.0//EN
CALSCALE:GREGORIAN
METHOD:PUBLISH
X-WR-CALNAME:Mountains Community Hospital
X-ORIGINAL-URL:https://www.mchcares.com
X-WR-CALDESC:Events for Mountains Community Hospital
REFRESH-INTERVAL;VALUE=DURATION:PT1H
X-Robots-Tag:noindex
X-PUBLISHED-TTL:PT1H
BEGIN:VTIMEZONE
TZID:UTC
BEGIN:STANDARD
TZOFFSETFROM:+0000
TZOFFSETTO:+0000
TZNAME:UTC
DTSTART:20180101T000000
END:STANDARD
END:VTIMEZONE
BEGIN:VEVENT
DTSTART;TZID=UTC:20210226T090000
DTEND;TZID=UTC:20210226T140000
DTSTAMP:20260421T083130
CREATED:20200915T053826Z
LAST-MODIFIED:20200915T053833Z
UID:7091-1614330000-1614348000@www.mchcares.com
SUMMARY:Blood Drive
DESCRIPTION:MCH will be hosting a LifeStream blood drive on Friday\, February 26\, 2021.  Appointments strongly recommended. Walk-ins welcome.
URL:https://www.mchcares.com/event/blood-drive-17/
LOCATION:Mountains Community Hospital\, 29101 Hospital Road\, Lake Arrowhead\, CA\, 92352\, United States
ATTACH;FMTTYPE=image/png:https://www.mchcares.com/wp-content/uploads/2019/10/Blood-drive-e1599864282170.png
END:VEVENT
BEGIN:VEVENT
DTSTART;TZID=UTC:20210129T090000
DTEND;TZID=UTC:20210129T140000
DTSTAMP:20260421T083130
CREATED:20200915T053645Z
LAST-MODIFIED:20200915T053652Z
UID:7089-1611910800-1611928800@www.mchcares.com
SUMMARY:Blood Drive
DESCRIPTION:MCH will be hosting a LifeStream blood drive on Friday\, January 29\, 2021.  Appointments strongly recommended. Walk-ins welcome.
URL:https://www.mchcares.com/event/blood-drive-16/
LOCATION:Mountains Community Hospital\, 29101 Hospital Road\, Lake Arrowhead\, CA\, 92352\, United States
ATTACH;FMTTYPE=image/png:https://www.mchcares.com/wp-content/uploads/2019/10/Blood-drive-e1599864282170.png
END:VEVENT
BEGIN:VEVENT
DTSTART;TZID=UTC:20201211T090000
DTEND;TZID=UTC:20201211T140000
DTSTAMP:20260421T083130
CREATED:20200915T052012Z
LAST-MODIFIED:20200915T052727Z
UID:7084-1607677200-1607695200@www.mchcares.com
SUMMARY:Blood Drive
DESCRIPTION:MCH will be hosting a LifeStream blood drive on Friday\, December 11\, 2020. All donors will receive antibody testing for COVID-19. Your antibody testing results reveal the potential to donate convalescent plasma\, a powerful way to help those fighting COVID-19. Appointments strongly recommended. Walk-ins welcome.
URL:https://www.mchcares.com/event/blood-drive-3/
LOCATION:Mountains Community Hospital\, 29101 Hospital Road\, Lake Arrowhead\, CA\, 92352\, United States
ATTACH;FMTTYPE=image/png:https://www.mchcares.com/wp-content/uploads/2019/10/Blood-drive-e1599864282170.png
END:VEVENT
BEGIN:VEVENT
DTSTART;TZID=UTC:20201113T090000
DTEND;TZID=UTC:20201113T140000
DTSTAMP:20260421T083130
CREATED:20200915T051821Z
LAST-MODIFIED:20200915T052645Z
UID:7082-1605258000-1605276000@www.mchcares.com
SUMMARY:Blood Drive
DESCRIPTION:MCH will be hosting a LifeStream blood drive on Friday\, November 13\, 2020. All donors will receive antibody testing for COVID-19. Your antibody testing results reveal the potential to donate convalescent plasma\, a powerful way to help those fighting COVID-19. Appointments strongly recommended. Walk-ins welcome.
URL:https://www.mchcares.com/event/blood-drive-2/
LOCATION:Mountains Community Hospital\, 29101 Hospital Road\, Lake Arrowhead\, CA\, 92352\, United States
ATTACH;FMTTYPE=image/png:https://www.mchcares.com/wp-content/uploads/2019/10/Blood-drive-e1599864282170.png
END:VEVENT
BEGIN:VEVENT
DTSTART;TZID=UTC:20201009T090000
DTEND;TZID=UTC:20201009T140000
DTSTAMP:20260421T083130
CREATED:20200912T070506Z
LAST-MODIFIED:20200915T060916Z
UID:7072-1602234000-1602252000@www.mchcares.com
SUMMARY:Blood Drive
DESCRIPTION:MCH will be hosting a LifeStream blood drive on Friday\, October 9\, 2020. All donors will receive antibody testing for COVID-19. Your antibody testing results reveal the potential to donate convalescent plasma\, a powerful way to help those fighting COVID-19. Appointments strongly recommended. Walk-ins welcome.
URL:https://www.mchcares.com/event/blood-drive/
LOCATION:Mountains Community Hospital\, 29101 Hospital Road\, Lake Arrowhead\, CA\, 92352\, United States
ATTACH;FMTTYPE=image/png:https://www.mchcares.com/wp-content/uploads/2019/10/Blood-drive-e1599864282170.png
END:VEVENT
BEGIN:VEVENT
DTSTART;TZID=UTC:20200911T090000
DTEND;TZID=UTC:20200911T140000
DTSTAMP:20260421T083130
CREATED:20200912T063633Z
LAST-MODIFIED:20200912T070711Z
UID:7045-1599814800-1599832800@www.mchcares.com
SUMMARY:Blood Drive
DESCRIPTION:MCH will be hosting a LifeStream blood drive on Friday\, September 11\, 2020.
URL:https://www.mchcares.com/event/blood-drive-15/
LOCATION:Mountains Community Hospital\, 29101 Hospital Road\, Lake Arrowhead\, CA\, 92352\, United States
ATTACH;FMTTYPE=image/png:https://www.mchcares.com/wp-content/uploads/2019/10/Blood-drive-e1599864282170.png
END:VEVENT
BEGIN:VEVENT
DTSTART;TZID=UTC:20200829T120000
DTEND;TZID=UTC:20200829T160000
DTSTAMP:20260421T083130
CREATED:20181220T072755Z
LAST-MODIFIED:20190823T045010Z
UID:5253-1598702400-1598716800@www.mchcares.com
SUMMARY:Basic Life Support (BLS) CPR
DESCRIPTION:The American Heart Association Basic Life Support (BLS) Cardiopulmonary Resuscitation (CPR) course is designed to provide a wide variety of healthcare professionals the ability to recognize several life-threatening emergencies\, provide CPR\, use an AED\, and relieve choking in a safe\, timely and effective manner. \nAlthough this course is designed for healthcare professionals\, community members may also attend for certification. \nPlease email Renee Limpus (renee.limpus@mchcares.com) to register.
URL:https://www.mchcares.com/event/basic-life-support-bls-cpr-13/
LOCATION:Mountains Community Hospital\, 29101 Hospital Road\, Lake Arrowhead\, CA\, 92352\, United States
ATTACH;FMTTYPE=image/jpeg:https://www.mchcares.com/wp-content/uploads/2018/12/BLS-for-calendar.jpg
END:VEVENT
BEGIN:VEVENT
DTSTART;TZID=UTC:20200814T090000
DTEND;TZID=UTC:20200814T140000
DTSTAMP:20260421T083130
CREATED:20190903T234406Z
LAST-MODIFIED:20191016T032517Z
UID:6281-1597395600-1597413600@www.mchcares.com
SUMMARY:Blood Drive
DESCRIPTION:Donate blood at MCH on Friday\, August 14\, 2020
URL:https://www.mchcares.com/event/blood-drive-12/
LOCATION:Mountains Community Hospital\, 29101 Hospital Road\, Lake Arrowhead\, CA\, 92352\, United States
END:VEVENT
BEGIN:VEVENT
DTSTART;TZID=UTC:20200710T090000
DTEND;TZID=UTC:20200710T140000
DTSTAMP:20260421T083130
CREATED:20191016T033337Z
LAST-MODIFIED:20200618T052645Z
UID:6376-1594371600-1594389600@www.mchcares.com
SUMMARY:Blood Drive
DESCRIPTION:Exciting news\, July’s blood drive is from 9am-2pm at MCH. LifeStream has begun testing all successful (complete) blood donations for antibodies to SARS-CoV-2\, the coronavirus that causes COVID-19. The test is done through a blood draw\, not a finger prick and has a high level of accuracy. LifeStream is providing this testing as an additional benefit to donors. Space is limited\, appointments are strongly encouraged. See the the link in the right hand column to schedule your appointment.
URL:https://www.mchcares.com/event/blood-drive-4/
LOCATION:Mountains Community Hospital\, 29101 Hospital Road\, Lake Arrowhead\, CA\, 92352\, United States
END:VEVENT
BEGIN:VEVENT
DTSTART;TZID=UTC:20200612T090000
DTEND;TZID=UTC:20200612T140000
DTSTAMP:20260421T083130
CREATED:20190903T234317Z
LAST-MODIFIED:20191016T033421Z
UID:6279-1591952400-1591970400@www.mchcares.com
SUMMARY:Blood Drive
DESCRIPTION:Donate blood at MCH on Friday\, June 12\, 2020
URL:https://www.mchcares.com/event/blood-drive-11/
LOCATION:Mountains Community Hospital\, 29101 Hospital Road\, Lake Arrowhead\, CA\, 92352\, United States
END:VEVENT
BEGIN:VEVENT
DTSTART;TZID=UTC:20200521T120000
DTEND;TZID=UTC:20200521T180000
DTSTAMP:20260421T083131
CREATED:20181221T014606Z
LAST-MODIFIED:20190829T230308Z
UID:5318-1590062400-1590084000@www.mchcares.com
SUMMARY:MCH BOARD MEETING
DESCRIPTION:Mountains Community Hospital Board Meeting
URL:https://www.mchcares.com/event/mch-board-meeting-5/
LOCATION:Mountains Community Hospital\, 29101 Hospital Road\, Lake Arrowhead\, CA\, 92352\, United States
END:VEVENT
BEGIN:VEVENT
DTSTART;TZID=UTC:20200508T090000
DTEND;TZID=UTC:20200508T140000
DTSTAMP:20260421T083131
CREATED:20191016T033507Z
LAST-MODIFIED:20191016T033507Z
UID:6378-1588928400-1588946400@www.mchcares.com
SUMMARY:Blood Drive
DESCRIPTION:Donate blood at MCH on Friday\, May 8\, 2020
URL:https://www.mchcares.com/event/blood-drive-5/
LOCATION:Mountains Community Hospital\, 29101 Hospital Road\, Lake Arrowhead\, CA\, 92352\, United States
END:VEVENT
BEGIN:VEVENT
DTSTART;TZID=UTC:20200416T120000
DTEND;TZID=UTC:20200416T180000
DTSTAMP:20260421T083131
CREATED:20181221T014337Z
LAST-MODIFIED:20190829T230441Z
UID:5316-1587038400-1587060000@www.mchcares.com
SUMMARY:MCH BOARD MEETING
DESCRIPTION:Mountains Community Hospital Board Meeting
URL:https://www.mchcares.com/event/mch-board-meeting-4/
LOCATION:Mountains Community Hospital\, 29101 Hospital Road\, Lake Arrowhead\, CA\, 92352\, United States
END:VEVENT
BEGIN:VEVENT
DTSTART;TZID=UTC:20200410T090000
DTEND;TZID=UTC:20200410T140000
DTSTAMP:20260421T083131
CREATED:20190903T234206Z
LAST-MODIFIED:20191016T033710Z
UID:6277-1586509200-1586527200@www.mchcares.com
SUMMARY:Blood Drive
DESCRIPTION:Donate blood at MCH on Friday\, April 10\, 2020
URL:https://www.mchcares.com/event/blood-drive-10/
LOCATION:Mountains Community Hospital\, 29101 Hospital Road\, Lake Arrowhead\, CA\, 92352\, United States
END:VEVENT
BEGIN:VEVENT
DTSTART;TZID=UTC:20200319T120000
DTEND;TZID=UTC:20200319T180000
DTSTAMP:20260421T083131
CREATED:20181221T014006Z
LAST-MODIFIED:20190829T223644Z
UID:5314-1584619200-1584640800@www.mchcares.com
SUMMARY:MCH BOARD MEETING
DESCRIPTION:Mountains Community Hospital Board Meeting
URL:https://www.mchcares.com/event/mch-board-meeting-3/
LOCATION:Mountains Community Hospital\, 29101 Hospital Road\, Lake Arrowhead\, CA\, 92352\, United States
END:VEVENT
BEGIN:VEVENT
DTSTART;TZID=UTC:20200313T090000
DTEND;TZID=UTC:20200313T140000
DTSTAMP:20260421T083131
CREATED:20191016T033642Z
LAST-MODIFIED:20191016T033642Z
UID:6380-1584090000-1584108000@www.mchcares.com
SUMMARY:Blood Drive
DESCRIPTION:Donate blood at MCH on Friday\, March 13\, 2020
URL:https://www.mchcares.com/event/blood-drive-6/
LOCATION:Mountains Community Hospital\, 29101 Hospital Road\, Lake Arrowhead\, CA\, 92352\, United States
END:VEVENT
BEGIN:VEVENT
DTSTART;TZID=UTC:20200220T120000
DTEND;TZID=UTC:20200220T180000
DTSTAMP:20260421T083131
CREATED:20181221T013900Z
LAST-MODIFIED:20190829T230748Z
UID:5312-1582200000-1582221600@www.mchcares.com
SUMMARY:MCH BOARD MEETING
DESCRIPTION:Mountains Community Hospital Board Meeting
URL:https://www.mchcares.com/event/mch-board-meeting-2/
LOCATION:Mountains Community Hospital\, 29101 Hospital Road\, Lake Arrowhead\, CA\, 92352\, United States
END:VEVENT
BEGIN:VEVENT
DTSTART;TZID=UTC:20200214T090000
DTEND;TZID=UTC:20200214T140000
DTSTAMP:20260421T083131
CREATED:20190903T234017Z
LAST-MODIFIED:20191016T032415Z
UID:6274-1581670800-1581688800@www.mchcares.com
SUMMARY:Blood Drive
DESCRIPTION:Donate blood at MCH on Friday\, February 14\, 2020
URL:https://www.mchcares.com/event/blood-drive-9/
LOCATION:Mountains Community Hospital\, 29101 Hospital Road\, Lake Arrowhead\, CA\, 92352\, United States
END:VEVENT
BEGIN:VEVENT
DTSTART;TZID=UTC:20200201T100000
DTEND;TZID=UTC:20200201T120000
DTSTAMP:20260421T083131
CREATED:20181221T012203Z
LAST-MODIFIED:20190910T213307Z
UID:5308-1580551200-1580558400@www.mchcares.com
SUMMARY:PolaRotary Jump
DESCRIPTION:
URL:https://www.mchcares.com/event/polarotary-jump/
LOCATION:CA
ATTACH;FMTTYPE=image/jpeg:https://www.mchcares.com/wp-content/uploads/2018/12/Willy-and-Oompas-arms-wide_white-eyebrows_small.jpg
ORGANIZER;CN="MCH Foundation":MAILTO:susan.stuart@mchcares.com
END:VEVENT
BEGIN:VEVENT
DTSTART;TZID=UTC:20200116T120000
DTEND;TZID=UTC:20200116T180000
DTSTAMP:20260421T083131
CREATED:20181221T015443Z
LAST-MODIFIED:20190829T223023Z
UID:5321-1579176000-1579197600@www.mchcares.com
SUMMARY:MCH BOARD MEETING
DESCRIPTION:Mountains Community Hospital Board Meeting
URL:https://www.mchcares.com/event/mch-board-meeting-6/
LOCATION:Mountains Community Hospital\, 29101 Hospital Road\, Lake Arrowhead\, CA\, 92352\, United States
END:VEVENT
BEGIN:VEVENT
DTSTART;TZID=UTC:20200110T090000
DTEND;TZID=UTC:20200110T140000
DTSTAMP:20260421T083131
CREATED:20191016T033818Z
LAST-MODIFIED:20191016T035213Z
UID:6382-1578646800-1578664800@www.mchcares.com
SUMMARY:Blood Drive
DESCRIPTION:Donate blood at MCH on Friday\, January 10\, 2020
URL:https://www.mchcares.com/event/blood-drive-13/
LOCATION:Mountains Community Hospital\, 29101 Hospital Road\, Lake Arrowhead\, CA\, 92352\, United States
END:VEVENT
BEGIN:VEVENT
DTSTART;TZID=UTC:20191213T090000
DTEND;TZID=UTC:20191213T140000
DTSTAMP:20260421T083131
CREATED:20181221T004542Z
LAST-MODIFIED:20181221T004542Z
UID:5304-1576227600-1576245600@www.mchcares.com
SUMMARY:Blood Drive
DESCRIPTION:Donate blood at MCH on Friday\, December 13\, 2019
URL:https://www.mchcares.com/event/blood-drive-8/
LOCATION:Mountains Community Hospital\, 29101 Hospital Road\, Lake Arrowhead\, CA\, 92352\, United States
ORGANIZER;CN="MCH Foundation":MAILTO:susan.stuart@mchcares.com
END:VEVENT
BEGIN:VEVENT
DTSTART;TZID=UTC:20191204T080000
DTEND;TZID=UTC:20191204T100000
DTSTAMP:20260421T083131
CREATED:20190829T223419Z
LAST-MODIFIED:20190829T223419Z
UID:6253-1575446400-1575453600@www.mchcares.com
SUMMARY:Crisis Management Lab (Hands On)
DESCRIPTION:
URL:https://www.mchcares.com/event/crisis-management-lab-hands-on-2/
LOCATION:CA
END:VEVENT
BEGIN:VEVENT
DTSTART;TZID=UTC:20191122T080000
DTEND;TZID=UTC:20191122T160000
DTSTAMP:20260421T083131
CREATED:20181220T080552Z
LAST-MODIFIED:20190829T225144Z
UID:5266-1574409600-1574438400@www.mchcares.com
SUMMARY:Advanced Cardiac Life Support Provider (ACLS) - Day 2 of 2/Renewal
DESCRIPTION:Advanced Cardiac Life Support (ACLS) is designed for healthcare professionals who either direct or participate in the management of cardiopulmonary arrest or other cardiovascular emergencies.  Such emergencies may include personnel in emergency response\, emergency medicine\, intensive care and critical care units such as physicians\, nurses\, and paramedics\, as well as others who need an ACLS course completion card for job or other requirements. \nThis classroom\, video-based\, instructor-led course builds on the foundation of lifesaving BLS for Healthcare Providers skills\, emphasizing the importance of continuous\, high-quality CPR. This advanced course highlights the importance of team dynamics and communication\, systems of care and immediate post-cardiac arrest care. ACLS also covers airway management and related pharmacology. \nPlease email Renee Limpus (mailto:renee.limpus@mchcares.com) to register.
URL:https://www.mchcares.com/event/advanced-cardiac-life-support-provider-acls-day-2-of-2-renewal-4/
LOCATION:Mountains Community Hospital\, 29101 Hospital Road\, Lake Arrowhead\, CA\, 92352\, United States
ATTACH;FMTTYPE=image/jpeg:https://www.mchcares.com/wp-content/uploads/2018/12/ACLS-2.jpg
ORGANIZER;CN="Renee Limpus%2C Education Manager":MAILTO:renee.limpus@mchcares.com
END:VEVENT
BEGIN:VEVENT
DTSTART;TZID=UTC:20191121T120000
DTEND;TZID=UTC:20191121T180000
DTSTAMP:20260421T083131
CREATED:20181221T021430Z
LAST-MODIFIED:20190829T230953Z
UID:5332-1574337600-1574359200@www.mchcares.com
SUMMARY:MCH BOARD MEETING
DESCRIPTION:Mountains Community Hospital Board Meeting
URL:https://www.mchcares.com/event/mch-board-meeting-11/
LOCATION:Mountains Community Hospital\, 29101 Hospital Road\, Lake Arrowhead\, CA\, 92352\, United States
END:VEVENT
BEGIN:VEVENT
DTSTART;TZID=UTC:20191121T080000
DTEND;TZID=UTC:20191121T160000
DTSTAMP:20260421T083131
CREATED:20181220T074244Z
LAST-MODIFIED:20190829T224648Z
UID:5260-1574323200-1574352000@www.mchcares.com
SUMMARY:Advanced Cardiac Life Support Provider (ACLS) - Day 1 of 2
DESCRIPTION:Advanced Cardiac Life Support (ACLS) is designed for healthcare professionals who either direct or participate in the management of cardiopulmonary arrest or other cardiovascular emergencies.  Such emergencies may include personnel in emergency response\, emergency medicine\, intensive care and critical care units such as physicians\, nurses\, and paramedics\, as well as others who need an ACLS course completion card for job or other requirements. \nThis classroom\, video-based\, instructor-led course builds on the foundation of lifesaving BLS for Healthcare Providers skills\, emphasizing the importance of continuous\, high-quality CPR. This advanced course highlights the importance of team dynamics and communication\, systems of care and immediate post-cardiac arrest care. ACLS also covers airway management and related pharmacology. \nPlease email Renee Limpus (mailto:renee.limpus@mchcares.com) to register.
URL:https://www.mchcares.com/event/advanced-cardiac-life-support-provider-acls-day-1-of-2-3/
LOCATION:Mountains Community Hospital\, 29101 Hospital Road\, Lake Arrowhead\, CA\, 92352\, United States
ATTACH;FMTTYPE=image/jpeg:https://www.mchcares.com/wp-content/uploads/2018/12/ACLS-2.jpg
ORGANIZER;CN="Renee Limpus%2C Education Manager":MAILTO:renee.limpus@mchcares.com
END:VEVENT
BEGIN:VEVENT
DTSTART;TZID=UTC:20191120T120000
DTEND;TZID=UTC:20191120T160000
DTSTAMP:20260421T083131
CREATED:20181220T072334Z
LAST-MODIFIED:20190823T050027Z
UID:5242-1574251200-1574265600@www.mchcares.com
SUMMARY:Basic Life Support (BLS) CPR
DESCRIPTION:The American Heart Association Basic Life Support (BLS) Cardiopulmonary Resuscitation (CPR) course is designed to provide a wide variety of healthcare professionals the ability to recognize several life-threatening emergencies\, provide CPR\, use an AED\, and relieve choking in a safe\, timely and effective manner. \nAlthough this course is designed for healthcare professionals\, community members may also attend for certification. \nPlease email Renee Limpus (renee.limpus@mchcares.com) to register.
URL:https://www.mchcares.com/event/basic-life-support-bls-cpr-10/
LOCATION:Mountains Community Hospital\, 29101 Hospital Road\, Lake Arrowhead\, CA\, 92352\, United States
ATTACH;FMTTYPE=image/jpeg:https://www.mchcares.com/wp-content/uploads/2018/12/BLS-for-calendar.jpg
ORGANIZER;CN="Renee Limpus%2C Education Manager":MAILTO:renee.limpus@mchcares.com
END:VEVENT
BEGIN:VEVENT
DTSTART;TZID=UTC:20191029T120000
DTEND;TZID=UTC:20191029T160000
DTSTAMP:20260421T083131
CREATED:20181220T072533Z
LAST-MODIFIED:20190823T045733Z
UID:5245-1572350400-1572364800@www.mchcares.com
SUMMARY:Basic Life Support (BLS) CPR
DESCRIPTION:The American Heart Association Basic Life Support (BLS) Cardiopulmonary Resuscitation (CPR) course is designed to provide a wide variety of healthcare professionals the ability to recognize several life-threatening emergencies\, provide CPR\, use an AED\, and relieve choking in a safe\, timely and effective manner. \nAlthough this course is designed for healthcare professionals\, community members may also attend for certification. \nPlease email Renee Limpus(renee.limpus@mchcares.com) to register.
URL:https://www.mchcares.com/event/basic-life-support-bls-cpr-11/
LOCATION:Mountains Community Hospital\, 29101 Hospital Road\, Lake Arrowhead\, CA\, 92352\, United States
ATTACH;FMTTYPE=image/jpeg:https://www.mchcares.com/wp-content/uploads/2018/12/BLS-for-calendar.jpg
ORGANIZER;CN="Renee Limpus%2C Education Manager":MAILTO:renee.limpus@mchcares.com
END:VEVENT
BEGIN:VEVENT
DTSTART;TZID=UTC:20191025T090000
DTEND;TZID=UTC:20191025T153000
DTSTAMP:20260421T083131
CREATED:20181220T231552Z
LAST-MODIFIED:20190906T000118Z
UID:5288-1571994000-1572017400@www.mchcares.com
SUMMARY:Pediatric Advanced Life Support Renewal Course (Day 2)
DESCRIPTION:Pediatric Advanced Life Support (PALS) is intended for healthcare providers who initiate and direct advanced life support in pediatric emergencies is a valuable training tool to improve outcomes for critically ill infants and children.
URL:https://www.mchcares.com/event/pediatric-advanced-life-support-renewal-course-day-2-3/
LOCATION:Mountains Community Hospital\, 29101 Hospital Road\, Lake Arrowhead\, CA\, 92352\, United States
ATTACH;FMTTYPE=image/jpeg:https://www.mchcares.com/wp-content/uploads/2018/12/PALS.jpg
ORGANIZER;CN="Renee Limpus%2C Education Manager":MAILTO:renee.limpus@mchcares.com
END:VEVENT
BEGIN:VEVENT
DTSTART;TZID=UTC:20191024T090000
DTEND;TZID=UTC:20191024T150000
DTSTAMP:20260421T083131
CREATED:20181220T230936Z
LAST-MODIFIED:20190905T235841Z
UID:5280-1571907600-1571929200@www.mchcares.com
SUMMARY:Pediatric Advanced Life Support Provider Course (Day 1)
DESCRIPTION:Pediatric Advanced Life Support (PALS) is intended for healthcare providers who initiate and direct advanced life support in pediatric emergencies is a valuable training tool to improve outcomes for critically ill infants and children.
URL:https://www.mchcares.com/event/pediatric-advanced-life-support-provider-course-day-1-2/
LOCATION:Mountains Community Hospital\, 29101 Hospital Road\, Lake Arrowhead
ATTACH;FMTTYPE=image/jpeg:https://www.mchcares.com/wp-content/uploads/2018/12/PALS.jpg
ORGANIZER;CN="Renee Limpus%2C Education Manager":MAILTO:renee.limpus@mchcares.com
END:VEVENT
END:VCALENDAR